BEGIN:VCALENDAR
VERSION:2.0
PRODID:-//Tokyo Guesthouse Oji music lounge - ECPv5.16.1.1//NONSGML v1.0//EN
CALSCALE:GREGORIAN
METHOD:PUBLISH
X-WR-CALNAME:Tokyo Guesthouse Oji music lounge
X-ORIGINAL-URL:http://oji-music-lounge.tokyo
X-WR-CALDESC:Tokyo Guesthouse Oji music lounge のイベント
BEGIN:VTIMEZONE
TZID:Asia/Tokyo
BEGIN:STANDARD
TZOFFSETFROM:+0900
TZOFFSETTO:+0900
TZNAME:JST
DTSTART:20240101T000000
END:STANDARD
END:VTIMEZONE
BEGIN:VEVENT
DTSTART;TZID=Asia/Tokyo:20241013T120000
DTEND;TZID=Asia/Tokyo:20241013T123000
DTSTAMP:20260424T164045
CREATED:20241001T075400Z
LAST-MODIFIED:20241001T075400Z
UID:4172-1728820800-1728822600@oji-music-lounge.tokyo
SUMMARY:しーちゃんソロライブ「俺と肉旦那」
DESCRIPTION:【ステージ詳細】\nopen 12:00\nstart 12:30\nMusic Charge ¥3\,500 + 2オーダー \n  \n【出演アーティスト】\nし〜ちゃん \nトミー肉旦那
URL:http://oji-music-lounge.tokyo/schedule/%e3%81%97%e3%83%bc%e3%81%a1%e3%82%83%e3%82%93%e3%82%bd%e3%83%ad%e3%83%a9%e3%82%a4%e3%83%96%e3%80%8c%e4%bf%ba%e3%81%a8%e8%82%89%e6%97%a6%e9%82%a3%e3%80%8d/
ATTACH;FMTTYPE=image/jpeg:http://oji-music-lounge.tokyo/wp-content/uploads/2024/10/93336361-1727767894050.jpg
END:VEVENT
END:VCALENDAR