BEGIN:VCALENDAR
VERSION:2.0
PRODID:-//Tokyo Guesthouse Oji music lounge - ECPv5.16.1.1//NONSGML v1.0//EN
CALSCALE:GREGORIAN
METHOD:PUBLISH
X-WR-CALNAME:Tokyo Guesthouse Oji music lounge
X-ORIGINAL-URL:http://oji-music-lounge.tokyo
X-WR-CALDESC:Tokyo Guesthouse Oji music lounge のイベント
BEGIN:VTIMEZONE
TZID:Asia/Tokyo
BEGIN:STANDARD
TZOFFSETFROM:+0900
TZOFFSETTO:+0900
TZNAME:JST
DTSTART:20240101T000000
END:STANDARD
END:VTIMEZONE
BEGIN:VEVENT
DTSTART;TZID=Asia/Tokyo:20241012T180000
DTEND;TZID=Asia/Tokyo:20241012T190000
DTSTAMP:20260424T150117
CREATED:20240925T072330Z
LAST-MODIFIED:20241001T074904Z
UID:4139-1728756000-1728759600@oji-music-lounge.tokyo
SUMMARY:アルケミストと夕食ホット
DESCRIPTION:【ステージ詳細】\nopen 18:00\nstart 19:00\nMusic Charge ¥4\,000 + 2オーダー\n全自由席・来場先着順入場 \n  \n配信視聴： ¥3\,500\n申し込み→https://tinyurl.com/yve5cn5n \n  \n【出演アーティスト】\nアルケミスト / 夕食ホット
URL:http://oji-music-lounge.tokyo/schedule/%e3%82%a2%e3%83%ab%e3%82%b1%e3%83%9f%e3%82%b9%e3%83%88%e3%81%a8%e5%a4%95%e9%a3%9f%e3%83%9b%e3%83%83%e3%83%88/
ATTACH;FMTTYPE=image/jpeg:http://oji-music-lounge.tokyo/wp-content/uploads/2024/09/S__53133320.jpg
END:VEVENT
END:VCALENDAR