BEGIN:VCALENDAR
VERSION:2.0
PRODID:-//Tokyo Guesthouse Oji music lounge - ECPv5.16.1.1//NONSGML v1.0//EN
CALSCALE:GREGORIAN
METHOD:PUBLISH
X-WR-CALNAME:Tokyo Guesthouse Oji music lounge
X-ORIGINAL-URL:http://oji-music-lounge.tokyo
X-WR-CALDESC:Tokyo Guesthouse Oji music lounge のイベント
BEGIN:VTIMEZONE
TZID:Asia/Tokyo
BEGIN:STANDARD
TZOFFSETFROM:+0900
TZOFFSETTO:+0900
TZNAME:JST
DTSTART:20240101T000000
END:STANDARD
END:VTIMEZONE
BEGIN:VEVENT
DTSTART;VALUE=DATE:20240929
DTEND;VALUE=DATE:20240930
DTSTAMP:20260419T233158
CREATED:20240925T071449Z
LAST-MODIFIED:20240925T071522Z
UID:4136-1727568000-1727654399@oji-music-lounge.tokyo
SUMMARY:坂福かな2024秋の陣 @ Oji Music Lounge
DESCRIPTION:【ステージ詳細】\nopen 12:00\nstart 13:00\nMusic Charge adv.¥4\,000 / door ¥4\,500 + 2オーダー\n※学生 ¥3\,000 + 2オーダー \n  \n【出演アーティスト】\n坂福かな（坂本竜太、福長雅夫、はらかなこ） \nご予約はこちら\ninfo@harakanako.com
URL:http://oji-music-lounge.tokyo/schedule/%e5%9d%82%e7%a6%8f%e3%81%8b%e3%81%aa2024%e7%a7%8b%e3%81%ae%e9%99%a3-oji-music-lounge/
ATTACH;FMTTYPE=image/jpeg:http://oji-music-lounge.tokyo/wp-content/uploads/2024/09/93336361-1726972309253.jpg
END:VEVENT
END:VCALENDAR