BEGIN:VCALENDAR
VERSION:2.0
PRODID:-//Tokyo Guesthouse Oji music lounge - ECPv5.16.1.1//NONSGML v1.0//EN
CALSCALE:GREGORIAN
METHOD:PUBLISH
X-WR-CALNAME:Tokyo Guesthouse Oji music lounge
X-ORIGINAL-URL:http://oji-music-lounge.tokyo
X-WR-CALDESC:Tokyo Guesthouse Oji music lounge のイベント
BEGIN:VTIMEZONE
TZID:Asia/Tokyo
BEGIN:STANDARD
TZOFFSETFROM:+0900
TZOFFSETTO:+0900
TZNAME:JST
DTSTART:20240101T000000
END:STANDARD
END:VTIMEZONE
BEGIN:VEVENT
DTSTART;TZID=Asia/Tokyo:20240630T180000
DTEND;TZID=Asia/Tokyo:20240630T190000
DTSTAMP:20260424T144123
CREATED:20240507T105035Z
LAST-MODIFIED:20240627T081635Z
UID:3765-1719770400-1719774000@oji-music-lounge.tokyo
SUMMARY:洸美バースデーコンサート 東京編
DESCRIPTION:【ステージ詳細】\nopen 18:00\nstart 19:00\nMusic Charge adv.¥4\,000 + 2オーダー \n  \n【出演アーティスト】\nVocal 洸美\nPiano 田中どぼん俊光\nGuitar 関根ゆたか\npercussion 菅野可奈子
URL:http://oji-music-lounge.tokyo/schedule/%e6%b4%b8%e7%be%8e%e3%83%90%e3%83%bc%e3%82%b9%e3%83%87%e3%83%bc%e3%82%b3%e3%83%b3%e3%82%b5%e3%83%bc%e3%83%88-%e6%9d%b1%e4%ba%ac%e7%b7%a8/
ATTACH;FMTTYPE=image/jpeg:http://oji-music-lounge.tokyo/wp-content/uploads/2024/05/S__67780615.jpg
END:VEVENT
END:VCALENDAR