BEGIN:VCALENDAR
VERSION:2.0
PRODID:-//Tokyo Guesthouse Oji music lounge - ECPv5.16.1.1//NONSGML v1.0//EN
CALSCALE:GREGORIAN
METHOD:PUBLISH
X-WR-CALNAME:Tokyo Guesthouse Oji music lounge
X-ORIGINAL-URL:http://oji-music-lounge.tokyo
X-WR-CALDESC:Tokyo Guesthouse Oji music lounge のイベント
BEGIN:VTIMEZONE
TZID:Asia/Tokyo
BEGIN:STANDARD
TZOFFSETFROM:+0900
TZOFFSETTO:+0900
TZNAME:JST
DTSTART:20230101T000000
END:STANDARD
END:VTIMEZONE
BEGIN:VEVENT
DTSTART;TZID=Asia/Tokyo:20231223T180000
DTEND;TZID=Asia/Tokyo:20231223T190000
DTSTAMP:20260419T220823
CREATED:20231020T085915Z
LAST-MODIFIED:20231020T085915Z
UID:3285-1703354400-1703358000@oji-music-lounge.tokyo
SUMMARY:浜端ヨウヘイ年末のご挨拶2023“今年もお世話になりました。in 東京”[CURRY&LIVE “HEYCURRY” ]
DESCRIPTION:【ステージ詳細】\nopen 18:00\nstart 19:00\nMusic Charge ¥5\,500（１カレー・１ドリンク付） \n10/22(日) AM10:00より予約受付開始 https://tiget.net/events/276227 \n  \n【出演】 \n浜端ヨウヘイ
URL:http://oji-music-lounge.tokyo/schedule/%e6%b5%9c%e7%ab%af%e3%83%a8%e3%82%a6%e3%83%98%e3%82%a4%e5%b9%b4%e6%9c%ab%e3%81%ae%e3%81%94%e6%8c%a8%e6%8b%b62023%e4%bb%8a%e5%b9%b4%e3%82%82%e3%81%8a%e4%b8%96%e8%a9%b1%e3%81%ab%e3%81%aa/
END:VEVENT
END:VCALENDAR