BEGIN:VCALENDAR
VERSION:2.0
PRODID:-//Tokyo Guesthouse Oji music lounge - ECPv5.16.1.1//NONSGML v1.0//EN
CALSCALE:GREGORIAN
METHOD:PUBLISH
X-WR-CALNAME:Tokyo Guesthouse Oji music lounge
X-ORIGINAL-URL:http://oji-music-lounge.tokyo
X-WR-CALDESC:Tokyo Guesthouse Oji music lounge のイベント
BEGIN:VTIMEZONE
TZID:Asia/Tokyo
BEGIN:STANDARD
TZOFFSETFROM:+0900
TZOFFSETTO:+0900
TZNAME:JST
DTSTART:20260101T000000
END:STANDARD
END:VTIMEZONE
BEGIN:VEVENT
DTSTART;TZID=Asia/Tokyo:20260502T180000
DTEND;TZID=Asia/Tokyo:20260502T185000
DTSTAMP:20260425T132019
CREATED:20260422T121411Z
LAST-MODIFIED:20260422T121456Z
UID:6007-1777744800-1777747800@oji-music-lounge.tokyo
SUMMARY:#海羽フェス よるの部
DESCRIPTION:【ステージ詳細】\nopen 18:00\nstart 18:50\nMusic Charge ¥3\,300(一般) / ¥2\,000(学生) 各＋２オーダー \n  \n【出演者】 \n坂本櫻/Karin./海羽 \n  \n【チケット詳細】 \nhttps://tiget.net/events/470988
URL:http://oji-music-lounge.tokyo/schedule/%e6%b5%b7%e7%be%bd%e3%83%95%e3%82%a7%e3%82%b9-2/
ATTACH;FMTTYPE=image/png:http://oji-music-lounge.tokyo/wp-content/uploads/2026/04/52フライヤー.png
END:VEVENT
END:VCALENDAR