BEGIN:VCALENDAR
VERSION:2.0
PRODID:-//Tokyo Guesthouse Oji music lounge - ECPv5.16.1.1//NONSGML v1.0//EN
CALSCALE:GREGORIAN
METHOD:PUBLISH
X-WR-CALNAME:Tokyo Guesthouse Oji music lounge
X-ORIGINAL-URL:http://oji-music-lounge.tokyo
X-WR-CALDESC:Tokyo Guesthouse Oji music lounge のイベント
BEGIN:VTIMEZONE
TZID:Asia/Tokyo
BEGIN:STANDARD
TZOFFSETFROM:+0900
TZOFFSETTO:+0900
TZNAME:JST
DTSTART:20250101T000000
END:STANDARD
END:VTIMEZONE
BEGIN:VEVENT
DTSTART;TZID=Asia/Tokyo:20250406T173000
DTEND;TZID=Asia/Tokyo:20250406T180000
DTSTAMP:20260419T233054
CREATED:20250303T094605Z
LAST-MODIFIED:20250303T094605Z
UID:4688-1743960600-1743962400@oji-music-lounge.tokyo
SUMMARY:阿部祐也×大野瞬「 おにいちゃんズ〜ゲストshinji〜 」
DESCRIPTION:【ステージ詳細】\nopen 17:30\nstart 18:15\nMusic Charge adv.¥3\,500 / door ¥4\,000 + 2オーダー \n  \n予約　一括予約サイト\nhttps://tiget.net/events/383044\n入場：整理番号順 \n  \n【出演アーティスト】 \n阿部祐也\n大野瞬\nshinji（遊吟）
URL:http://oji-music-lounge.tokyo/schedule/%e9%98%bf%e9%83%a8%e7%a5%90%e4%b9%9fx%e5%a4%a7%e9%87%8e%e7%9e%ac%e3%80%8c-%e3%81%8a%e3%81%ab%e3%81%84%e3%81%a1%e3%82%83%e3%82%93%e3%82%ba%e3%80%9c%e3%82%b2%e3%82%b9%e3%83%88shinji%e3%80%9c/
ATTACH;FMTTYPE=image/jpeg:http://oji-music-lounge.tokyo/wp-content/uploads/2025/03/GktXionbQAANaLM.jpeg
END:VEVENT
END:VCALENDAR