BEGIN:VCALENDAR
VERSION:2.0
PRODID:-//Tokyo Guesthouse Oji music lounge - ECPv5.16.1.1//NONSGML v1.0//EN
CALSCALE:GREGORIAN
METHOD:PUBLISH
X-WR-CALNAME:Tokyo Guesthouse Oji music lounge
X-ORIGINAL-URL:http://oji-music-lounge.tokyo
X-WR-CALDESC:Tokyo Guesthouse Oji music lounge のイベント
BEGIN:VTIMEZONE
TZID:Asia/Tokyo
BEGIN:STANDARD
TZOFFSETFROM:+0900
TZOFFSETTO:+0900
TZNAME:JST
DTSTART:20240101T000000
END:STANDARD
END:VTIMEZONE
BEGIN:VEVENT
DTSTART;TZID=Asia/Tokyo:20240706T120000
DTEND;TZID=Asia/Tokyo:20240706T150000
DTSTAMP:20260424T124707
CREATED:20240702T125416Z
LAST-MODIFIED:20240702T125416Z
UID:3881-1720267200-1720278000@oji-music-lounge.tokyo
SUMMARY:伊沢ビンコウ バースデーEve バンド単独公演｢コバルト｣
DESCRIPTION:【ステージ詳細】open 12:00start 12:30Music Charge adv.¥4\,000 / door ¥4\,500　+ 2オーダー(¥1\,000) \n【出演アーティスト】伊沢ビンコウ / 橋谷田真(Dr.) / 梅沢茂樹(Ba.) \n・入場順：来場整列順
URL:http://oji-music-lounge.tokyo/schedule/20240706_izawabinkoh/
ATTACH;FMTTYPE=image/jpeg:http://oji-music-lounge.tokyo/wp-content/uploads/2024/07/20240706_伊沢ビンコウ.jpeg
END:VEVENT
END:VCALENDAR