BEGIN:VCALENDAR
VERSION:2.0
PRODID:-//Tokyo Guesthouse Oji music lounge - ECPv5.16.1.1//NONSGML v1.0//EN
CALSCALE:GREGORIAN
METHOD:PUBLISH
X-WR-CALNAME:Tokyo Guesthouse Oji music lounge
X-ORIGINAL-URL:http://oji-music-lounge.tokyo
X-WR-CALDESC:Tokyo Guesthouse Oji music lounge のイベント
BEGIN:VTIMEZONE
TZID:Asia/Tokyo
BEGIN:STANDARD
TZOFFSETFROM:+0900
TZOFFSETTO:+0900
TZNAME:JST
DTSTART:20240101T000000
END:STANDARD
END:VTIMEZONE
BEGIN:VEVENT
DTSTART;TZID=Asia/Tokyo:20240707T170000
DTEND;TZID=Asia/Tokyo:20240707T210000
DTSTAMP:20260424T092751
CREATED:20240603T120037Z
LAST-MODIFIED:20240609T062332Z
UID:3847-1720371600-1720386000@oji-music-lounge.tokyo
SUMMARY:道の駅　kiss the gambler　Vol.3出演：ビューティフルハミングバード、kiss the gambler
DESCRIPTION:kiss the gamblerが尊敬するアーティストをゲストに招いてのツーマンライブ企画の第三弾！\n前野健太、かもめ児童合唱団、に続き\n今回は小池光子（ボーカル）、タバティ（ギター）による、歌とギターの2人組　ビューティフルハミングバードをゲストに迎えての開催。\n初顔合わせの二組　美しいメロディとハーモニー溢れる一夜になるはず。\nkiss the gamblerオリジナルフード、ドリンクなどももちろん販売予定。 \n  \n【ステージ詳細】\nopen 17:00\nstart 18:00\nMusic Charge adv.¥3\,900 / door ¥4\,400　+ 2オーダー(¥1\,000)\n※学生の方は学生証提示で 2オーダー代サービス \n【出演アーティスト】\nビューティフルハミングバード、kiss the gambler \n  \n・入場順： 整理番号順入場・全自由\n・チケット発売日：６月３日（月）21:00～ e＋にて発売\n \n・⼩学⽣以上の⽅はチケットが必要となります。\n・未就学児のご⼊場は、同⾏の保護者の⽅の座席の範囲内で、周りのお客様のご迷惑にならないようにご覧ください。\nお席が必要な場合は、チケットが必要となります。
URL:http://oji-music-lounge.tokyo/schedule/20240707_kissthegambler/
ATTACH;FMTTYPE=image/jpeg:http://oji-music-lounge.tokyo/wp-content/uploads/2024/06/20240707.jpg
END:VEVENT
END:VCALENDAR