BEGIN:VCALENDAR
VERSION:2.0
PRODID:-//Tokyo Guesthouse Oji music lounge - ECPv5.16.1.1//NONSGML v1.0//EN
CALSCALE:GREGORIAN
METHOD:PUBLISH
X-WR-CALNAME:Tokyo Guesthouse Oji music lounge
X-ORIGINAL-URL:http://oji-music-lounge.tokyo
X-WR-CALDESC:Tokyo Guesthouse Oji music lounge のイベント
BEGIN:VTIMEZONE
TZID:Asia/Tokyo
BEGIN:STANDARD
TZOFFSETFROM:+0900
TZOFFSETTO:+0900
TZNAME:JST
DTSTART:20240101T000000
END:STANDARD
END:VTIMEZONE
BEGIN:VEVENT
DTSTART;VALUE=DATE:20241107
DTEND;VALUE=DATE:20241108
DTSTAMP:20260423T131852
CREATED:20241002T050934Z
LAST-MODIFIED:20241002T051052Z
UID:4190-1730937600-1731023999@oji-music-lounge.tokyo
SUMMARY:Talk & Live"11" -今年はちょっぴりアコースティック-山本茉莉奈(Reed) 仙名立宗(Vo) 濱田竜司(Pf) 宮川克斗(Ds)
DESCRIPTION:【ステージ詳細】\nopen 18:15\nstart 19:00\nMusic Charge adv.¥3\,500 / door ¥4\,000+ 2オーダー \n  \nご予約→https://tiget.net/events/348768\n・予約先着順 全席指定席 \n・整列は開場時間の10分前から、到着順に整列ください \n※同行者様全員が揃った段階で入場待機列にお並び下さい。予約はバラバラでも友人知人同士で一緒に入場希望の場合も同様です。列への横入りはおやめください。”会場到着順”での整列です。 \n  \n【出演アーティスト】 \n山本茉莉奈(Reed)\n仙名立宗(Vo)\n濱田竜司(Pf)\n宮川克斗(Ds)
URL:http://oji-music-lounge.tokyo/schedule/talk-live11-%e4%bb%8a%e5%b9%b4%e3%81%af%e3%81%a1%e3%82%87%e3%81%a3%e3%81%b4%e3%82%8a%e3%82%a2%e3%82%b3%e3%83%bc%e3%82%b9%e3%83%86%e3%82%a3%e3%83%83%e3%82%af/
ATTACH;FMTTYPE=image/jpeg:http://oji-music-lounge.tokyo/wp-content/uploads/2024/10/93336361-1727500509943.jpg
END:VEVENT
END:VCALENDAR